BEGIN:VCALENDAR
VERSION:2.0
PRODID:-//RADAR|Regulating AntiDiscrimination and AntiRacism - ECPv4.3.2//NONSGML v1.0//EN
CALSCALE:GREGORIAN
METHOD:PUBLISH
X-WR-CALNAME:RADAR|Regulating AntiDiscrimination and AntiRacism
X-ORIGINAL-URL:http://win.radar.communicationproject.eu/web
X-WR-CALDESC:Events for RADAR|Regulating AntiDiscrimination and AntiRacism
BEGIN:VEVENT
DTSTART;TZID=UTC+0:20160506T090000
DTEND;TZID=UTC+0:20160506T140000
DTSTAMP:20260424T180348
CREATED:20160405T161210Z
LAST-MODIFIED:20160405T161210Z
UID:2476-1462525200-1462543200@win.radar.communicationproject.eu
SUMMARY:Da hate speech a hate communication Workshop 1 (gruppo 2)
DESCRIPTION:Come il razzismo è prodotto e riflesso tramite pratiche comunicative.\n\nPRIMA GIORNATA (5 ore)\n\nIL PROGETTO RADAR E I SUOI OBIETTIVI\n\nTESTI LEGALI E TERMINOLOGIA DI USO QUOTIDIANO\n\n· Modello di analisi: Leggi\n\n· Modello di analisi: Sentenze\n\n· Risultati tratti dal progetto RADAR\n\n· Discussione\nVOCABOLARIO CRITICO\n\n· Parole sotto accusa\n\n· Discussione\nARTICOLI DI QUOTIDIANI\n\n· Modello di analisi\n\n· Risultati tratti dal progetto RADAR\n\n· Discussione\nDIBATTITI SUL RAZZISMO TRATTI DAI QUOTIDIANI\n\n· Risultati tratti dal progetto RADAR\nMECCANISMI DELLA COMUNICAZIONE\n\n· I quattro livelli di analisi\n\n· Il contesto\n\n· L'interpretazione\n\n· Altri modelli di analisi
URL:http://win.radar.communicationproject.eu/web/event/da-hate-speech-a-hate-communication-workshop-1-gruppo-2/
LOCATION:Palazzo Donini\, Regione Umbria Corso Vannucci\, 96\, Perugia\, Umbria\, Italy
ORGANIZER;CN="University%20of%20Perugia":MAILTO:gabriellaklein@gabriellaklein.eu
END:VEVENT
END:VCALENDAR