BEGIN:VCALENDAR
VERSION:2.0
PRODID:-//RADAR|Regulating AntiDiscrimination and AntiRacism - ECPv4.3.2//NONSGML v1.0//EN
CALSCALE:GREGORIAN
METHOD:PUBLISH
X-WR-CALNAME:RADAR|Regulating AntiDiscrimination and AntiRacism
X-ORIGINAL-URL:http://win.radar.communicationproject.eu/web
X-WR-CALDESC:Events for RADAR|Regulating AntiDiscrimination and AntiRacism
BEGIN:VEVENT
DTSTART;TZID=UTC+0:20160519T020000
DTEND;TZID=UTC+0:20160519T190000
DTSTAMP:20260424T163301
CREATED:20160405T161721Z
LAST-MODIFIED:20160405T161831Z
UID:2480-1463623200-1463684400@win.radar.communicationproject.eu
SUMMARY:Da hate speech a hate communication Workshop 2 (gruppo 1)
DESCRIPTION:PRATICHE COMUNICATIVE – ESEMPI NEGATIVI E POSITIVI\n\n· Modello di analisi: Post dai social network\n\n· Modello di analisi: Immagini\n\n· Modello di analisi: Video\n\n· Modello di analisi: Immagini pubblicitarie\n\n· Modello di analisi: Video pubblicitari\n\n· Discussione\nELABORAZIONE DI BUONE PRATICHE PER IL LAVORO E LA VITA QUOTIDIANA
URL:http://win.radar.communicationproject.eu/web/event/da-hate-speech-hate-communication-workshop-2-gruppo-1/
LOCATION:Pal.Broletto V piano sala azzurra\, Perugia\, Umbria\, Italy
END:VEVENT
END:VCALENDAR